BEGIN:VCALENDAR
VERSION:2.0
BEGIN:VEVENT
DTSTART:20210524T220000Z
DTEND:20210525T000000Z
SUMMARY:Business Building Block Workshop - Customer Services
DESCRIPTION:Defining customer service – what does it mean and what does it matter in our world today?
LOCATION:Mahitahi COLAB Boardroom,  NMIT Campus, 322 Hardy Street, Nelson
END:VEVENT
END:VCALENDAR